BEGIN:VCALENDAR
VERSION:2.0
PRODID:-//ChamberMaster//Event Calendar 2.0//EN
METHOD:PUBLISH
X-PUBLISHED-TTL:P3D
REFRESH-INTERVAL:P3D
CALSCALE:GREGORIAN
BEGIN:VEVENT
DTSTART;VALUE=DATE:20130618
DTEND;VALUE=DATE:20130619
TRANSP:TRANSPARENT
X-MICROSOFT-CDO-ALLDAYEVENT:TRUE
SUMMARY:Studio Faculty Presentations
DESCRIPTION:Enjoy a free\, informal lecture by Studio faculty members and renowned glass artists\, Beccy Feather\, Judy Hill\, Jiyong Lee\, Alexander Rosenberg & Loren Stump. The Studio. 7:30 p.m. at The Studio of The Corning Museum of Glass. Admission is free and registration is not required. Call to (607) 438-5100 confirm speakers' dates\, which are subject to change.
X-ALT-DESC;FMTTYPE=text/html:<p class="MsoNormal" style="margin: 0in 0in 0pt\;">\n	<font size="3"><font color="#000000"><font face="Times New Roman">Enjoy a free\, informal lecture by Studio faculty members and renowned glass artists\, Beccy Feather\, Judy Hill\, Jiyong Lee\, Alexander Rosenberg &amp\; Loren Stump. The Studio. <i style="mso-bidi-font-style: normal\;">7:30 p.m. at The Studio of The Corning Museum of Glass. Admission is free and registration is not required. Call to (607) 438-5100 confirm speakers&rsquo\; dates\, which are subject to change.</i></font></font></font></p>\n
LOCATION:The Corning Museum of Glass
UID:e.869.564
SEQUENCE:3
DTSTAMP:20260420T015058Z
URL:http://corningny.chambermaster.com/events/details/studio-faculty-presentations-06-18-2013-564
END:VEVENT

END:VCALENDAR
