BEGIN:VCALENDAR
VERSION:2.0
PRODID:-//ChamberMaster//Event Calendar 2.0//EN
METHOD:PUBLISH
X-PUBLISHED-TTL:P3D
REFRESH-INTERVAL:P3D
CALSCALE:GREGORIAN
BEGIN:VEVENT
DTSTART;VALUE=DATE:20210506
DTEND;VALUE=DATE:20210507
TRANSP:TRANSPARENT
X-MICROSOFT-CDO-ALLDAYEVENT:TRUE
SUMMARY:Ribbon Cutting - Pixie Moss Meadows
DESCRIPTION:Join us to celebrate Pixie Moss Meadows' grand opening in their new location!\n\n\n\nFor everyone's safety\, anyone attending the ribbon cutting will be asked to wear a mask and practice social distancing.
X-ALT-DESC;FMTTYPE=text/html:<br />\n<span style="color:#202020\;"><span style="font-family:helvetica\,sans-serif\;"><span style="font-size:12.0pt\;">Join us to celebrate Pixie Moss Meadows&#39\; grand opening in their new location!<br />\n<br />\nFor everyone&#39\;s safety\, anyone attending the ribbon cutting will be asked to wear a mask and practice social distancing.</span></span></span><br />\n&nbsp\;
LOCATION:65 East Market Street
UID:e.869.11668
SEQUENCE:3
DTSTAMP:20260420T043734Z
URL:http://corningny.chambermaster.com/events/details/ribbon-cutting-pixie-moss-meadows-11668
END:VEVENT

END:VCALENDAR
