BEGIN:VCALENDAR
VERSION:2.0
PRODID:-//ChamberMaster//Event Calendar 2.0//EN
METHOD:PUBLISH
X-PUBLISHED-TTL:P3D
REFRESH-INTERVAL:P3D
CALSCALE:GREGORIAN
BEGIN:VEVENT
DTSTART;VALUE=DATE:20210131
DTEND;VALUE=DATE:20210501
TRANSP:TRANSPARENT
X-MICROSOFT-CDO-ALLDAYEVENT:TRUE
SUMMARY:More Glass Return Pass
DESCRIPTION:Don't miss a single thing!\n\nBetween the dates of December 26\, 2020 and March 31\, 2021\, purchase a paid adult admission ticket to The Corning Museum of Glass and receive a More Glass Return Pass at check-in.\n\nThis pass grants you unlimited\, free return visits between your purchase date and April 30\, 2021.
X-ALT-DESC;FMTTYPE=text/html:<p style="margin-left:0px\; margin-right:0px\; text-align:left">Don&#39\;t miss a single thing!</p>\n\n<p style="margin-left:0px\; margin-right:0px\; text-align:left">Between the dates of December 26\, 2020 and&nbsp\;March 31\, 2021\,&nbsp\;purchase a paid adult admission ticket to The Corning Museum of Glass and receive a&nbsp\;<em>More Glass Return Pass</em>&nbsp\;at check-in.</p>\n\n<p style="margin-left:0px\; margin-right:0px\; text-align:left">This pass grants you unlimited\, free return visits between your purchase date and&nbsp\;April 30\, 2021.</p>\n
LOCATION:The Corning Museum of Glass
UID:e.869.11461
SEQUENCE:3
DTSTAMP:20260422T042111Z
URL:http://corningny.chambermaster.com/events/details/more-glass-return-pass-11461
END:VEVENT

END:VCALENDAR
