BEGIN:VCALENDAR
VERSION:2.0
PRODID:-//ChamberMaster//Event Calendar 2.0//EN
METHOD:PUBLISH
X-PUBLISHED-TTL:P3D
REFRESH-INTERVAL:P3D
CALSCALE:GREGORIAN
BEGIN:VEVENT
DTSTART:20210318T180000Z
DTEND:20210318T190000Z
X-MICROSOFT-CDO-ALLDAYEVENT:FALSE
SUMMARY:Labor & HR Update
DESCRIPTION:Join us for a look at current HR & labor issues and regulations\, including Paid Sick Leave\, COVID pay requirements\, and legal and liability issues of mandatory employee vaccinations.  Frank Kerbein\, Director\, Center for Human Resources with the Business Council of New York State\, will share updates and answer questions.
X-ALT-DESC;FMTTYPE=text/html:<br />\n<span style="font-size:16px\;">Join us for a look at current HR &amp\; labor issues and regulations\, including Paid Sick Leave\, COVID pay requirements\, and legal and liability issues of mandatory employee vaccinations.&nbsp\; Frank Kerbein\, Director\, Center for Human Resources with the Business Council of New York State\, will share updates and answer questions.</span><br />\n&nbsp\;
LOCATION:Webinar
UID:e.869.11548
SEQUENCE:3
DTSTAMP:20260420T061155Z
URL:http://corningny.chambermaster.com/events/details/labor-hr-update-11548
END:VEVENT

END:VCALENDAR
