BEGIN:VCALENDAR
VERSION:2.0
PRODID:-//ChamberMaster//Event Calendar 2.0//EN
METHOD:PUBLISH
X-PUBLISHED-TTL:P3D
REFRESH-INTERVAL:P3D
CALSCALE:GREGORIAN
BEGIN:VEVENT
DTSTART:20131117T170000Z
DTEND:20131117T210000Z
X-MICROSOFT-CDO-ALLDAYEVENT:FALSE
SUMMARY:Families Explore: Science
DESCRIPTION:Learn how to extract DNA from a strawberry with representatives from the Wings of Eagles at this fun\, hands-on event. Watch a live demo by the Chemung County Stormwater Coalition and learn about the Science of Slime with the Society of Women Engineers. Make a periscope and spectroscope (rainbow-scope)\, learn about careers in science\, and much more. 12:00 p.m.   4:00 p.m. Included in Museum admission. Adult admission is $15.00 (discounts apply) and $6 for local residents\; kids and teens\, 19 and under\, free. Registration not required. Drop-in activities throughout the day. Contact familiesexplore@cmog.org or call (607) 438-5401 for more information.
X-ALT-DESC;FMTTYPE=text/html:<span style="font-size: 12pt\;"><span style="font-family: times new roman\,serif\;"><span style="color: black\;">Learn how to extract DNA from a strawberry with representatives from the Wings of Eagles at this fun\, hands-on event. Watch a live demo by the Chemung County Stormwater Coalition and learn about the Science of Slime with the Society of Women Engineers. Make a periscope and spectroscope (rainbow-scope)\, learn about careers in science\, and much more. <em>12:00 p.m. &ndash\; 4:00 p.m. Included in Museum admission. Adult admission is $15.00 (discounts apply) and $6 for local residents\; kids and teens\, 19 and under\, free. Registration not required. Drop-in activities throughout the day. Contact familiesexplore@cmog.org or call (607) 438-5401 for more information.</em></span></span></span><br />\n
LOCATION:The Corning Museum of Glass
UID:e.869.653
SEQUENCE:3
DTSTAMP:20260426T023928Z
URL:http://corningny.chambermaster.com/events/details/families-explore-science-11-17-2013-653
END:VEVENT

END:VCALENDAR
