BEGIN:VCALENDAR
VERSION:2.0
PRODID:-//ChamberMaster//Event Calendar 2.0//EN
METHOD:PUBLISH
X-PUBLISHED-TTL:P3D
REFRESH-INTERVAL:P3D
CALSCALE:GREGORIAN
BEGIN:VEVENT
DTSTART:20131122T133000Z
DTEND:20131122T150000Z
X-MICROSOFT-CDO-ALLDAYEVENT:FALSE
SUMMARY:Educational Program: Executive Time Management
DESCRIPTION:Executive Time Management Workshop With Andy Taylor\n\n	 \n\n	What does "Eating Frogs" and Italian Pea Pods have to do with radical breakthroughs in time management? ...\n\n	Come and find out!\n\n	 \n\n	Why Attend?\n\n	Participants will learn a variety of proven\, time management skills used world-wide to help leaders get more done in less time.  No gimmicks\, no magic wands\, just practical tools and a way of thinking that can dramatically improve productivity.\n\n	 \n\n	Participants will learn:\n\n	  How "Eating Frogs" and studying Italian Peapods created a revolution in time management.\n\n	  The critical importance of "Covey's Quadrants."\n\n	  How a twelve minute exercise can save you up to two hours a day (yes\, it's true).\n\n	_______________________________________________________\n\n	\n\n	\n		Workshop Presenter: Andy Taylor\, ACC\, Executive & Leadership Coach\n	\n		Andy is an Internationally Certified Executive & Leadership Coach. His clients have included the Radisson Hotel\, Nancy Socha & Associates\, HUNT\, World Kitchen\, The Corning Community YMCA\, The Rockwell Museum of Western Art\, The Institute for Human Services\, Arbor Housing and Development and many others.
X-ALT-DESC;FMTTYPE=text/html:<div>\n	Executive Time Management Workshop With Andy Taylor</div>\n<div>\n	&nbsp\;</div>\n<div>\n	What does &ldquo\;Eating Frogs&rdquo\; and Italian Pea Pods have to do with radical breakthroughs in time management? ...</div>\n<div>\n	Come and find out!</div>\n<div>\n	&nbsp\;</div>\n<div>\n	Why Attend?</div>\n<div>\n	Participants will learn a variety of proven\, time management skills used world-wide to help leaders get more done in less time. &nbsp\;No gimmicks\, no magic wands\, just practical tools and a way of thinking that can dramatically improve productivity.</div>\n<div>\n	&nbsp\;</div>\n<div>\n	Participants will learn:</div>\n<div>\n	&bull\;<span class="Apple-tab-span" style="white-space:pre"> </span>How &ldquo\;Eating Frogs&rdquo\; and studying Italian Peapods created a revolution in time management.</div>\n<div>\n	&bull\;<span class="Apple-tab-span" style="white-space:pre"> </span>The critical importance of &ldquo\;Covey&rsquo\;s Quadrants.&rdquo\;</div>\n<div>\n	&bull\;<span class="Apple-tab-span" style="white-space:pre"> </span>How a twelve minute exercise can save you up to two hours a day (yes\, it&rsquo\;s true).<br />\n	_______________________________________________________<br />\n	<br />\n	<div>\n		Workshop Presenter: Andy Taylor\, ACC\, Executive &amp\; Leadership Coach</div>\n	<div>\n		Andy is an Internationally Certified Executive &amp\; Leadership Coach. His clients have included the Radisson Hotel\, Nancy Socha &amp\; Associates\, HUNT\, World Kitchen\, The Corning Community YMCA\, The Rockwell Museum of Western Art\, The Institute for Human Services\, Arbor Housing and Development and many others.</div>\n	<div>\n		&nbsp\;</div>\n</div>\n<br />\n
LOCATION:Three Rivers Conference Room A 114 Pine Street\, 2nd Floor Corning\, NY
UID:e.869.677
SEQUENCE:3
DTSTAMP:20260420T032445Z
URL:http://corningny.chambermaster.com/events/details/educational-program-executive-time-management-11-22-2013-677
END:VEVENT

END:VCALENDAR
